BEGIN:VCALENDAR
VERSION:2.0
PRODID:-//ChamberMaster//Event Calendar 2.0//EN
METHOD:PUBLISH
X-PUBLISHED-TTL:P3D
REFRESH-INTERVAL:P3D
CALSCALE:GREGORIAN
BEGIN:VEVENT
DTSTART:20200130T120000Z
DTEND:20200130T160000Z
X-MICROSOFT-CDO-ALLDAYEVENT:FALSE
SUMMARY:FABA to Capitol Hill (Richmond) 2020
DESCRIPTION:Join FABA as we storm Capitol Hill in Richmond to meet our legislators to discuss bill that are being presented in the  2020 session.\n\nSchedule\n\n7:00AM HBAV office\n\n8:30AM  Delegate Buddy Fowler    E211\n\n9:00AM  Senator Scott Surovell    E617\n\n9:00AM  Delegate John McGuire    E213\n\n9:15AM  Delegate Jennifer Carroll Foy  W 428\n\n9:30AM  Senator Bryce Reeves    E521\n\n9:30AM  Delegate Josh Cole            E218\n\n9:45AM  Delegate Margaret Ransone    E412\n\n10:00AM  Senator Ryan McDougle    E501\n\n10:00AM  Delegate Bobby Orrock        E309\n\n10:15AM  Delegate Nick Freitas        W436\n\n10:30AM  Senator Richard Stuart    E611\n\n10:45AM  Delegate Mark Cole        E202
X-ALT-DESC;FMTTYPE=text/html:<span style="font-size:12px\;"><span style="font-family:arial\;">Join FABA as we storm Capitol Hill in Richmond to meet our legislators to discuss bill that are being presented in the&nbsp\; 2020 session.</span></span><br />\nSchedule<br />\n7:00AM HBAV office<br />\n8:30AM&nbsp\; Delegate Buddy Fowler&nbsp\; &nbsp\; E211<br />\n9:00AM&nbsp\; Senator Scott Surovell&nbsp\; &nbsp\; E617<br />\n9:00AM&nbsp\; Delegate John McGuire&nbsp\; &nbsp\; E213<br />\n9:15AM&nbsp\; Delegate Jennifer Carroll Foy&nbsp\; W 428<br />\n9:30AM&nbsp\; Senator Bryce Reeves&nbsp\; &nbsp\; E521<br />\n9:30AM&nbsp\; Delegate Josh Cole&nbsp\;&nbsp\;&nbsp\;&nbsp\;&nbsp\;&nbsp\;&nbsp\;&nbsp\;&nbsp\; &nbsp\; E218<br />\n9:45AM&nbsp\; Delegate Margaret Ransone&nbsp\; &nbsp\; E412<br />\n10:00AM&nbsp\; Senator Ryan McDougle&nbsp\; &nbsp\; E501<br />\n10:00AM&nbsp\; Delegate Bobby Orrock&nbsp\;&nbsp\;&nbsp\;&nbsp\;&nbsp\; &nbsp\; E309<br />\n10:15AM&nbsp\; Delegate Nick Freitas&nbsp\;&nbsp\;&nbsp\;&nbsp\;&nbsp\; &nbsp\; W436<br />\n10:30AM&nbsp\; Senator Richard Stuart&nbsp\; &nbsp\; E611<br />\n10:45AM&nbsp\; Delegate Mark Cole&nbsp\;&nbsp\;&nbsp\;&nbsp\;&nbsp\; &nbsp\; E202
LOCATION:TO CARPOOL FROM FREDERICKSBURG: Meet at 6:00 am at Cracker Barrel in Massaponax (5200 Southpoint Pkwy\, Fredericksburg\, VA 22407) We will leave from there promptly. IF MEETING US IN RICHMOND: Meet at 8:00 am in the LOBBY of the Pocahontas Building (900 Main St\, Richmond VA) PLEASE CALL FABA AT (540) 898-2730 TO LET US KNOW YOU ARE COMING SO WE KNOW TO WAIT FOR YOU.
UID:e.9458.3025
SEQUENCE:3
DTSTAMP:20260422T062603Z
URL:https://members.fabava.com/events/details/faba-to-capitol-hill-richmond-2020-3025
END:VEVENT

END:VCALENDAR
