BEGIN:VCALENDAR
VERSION:2.0
PRODID:-//ChamberMaster//Event Calendar 2.0//EN
METHOD:PUBLISH
X-PUBLISHED-TTL:P3D
REFRESH-INTERVAL:P3D
CALSCALE:GREGORIAN
BEGIN:VEVENT
DTSTART:20190212T210000Z
DTEND:20190213T000000Z
X-MICROSOFT-CDO-ALLDAYEVENT:FALSE
SUMMARY:Grand Opening Ribbon Cutting at the new home of Brandonbilt Motorsports
DESCRIPTION:Join us for the Grand Opening Ribbon Cutting of the BRAND NEW headquarters of Brandonbilt Motorsports right here in Fredericksburg!\n\n\n\nSee the #86 NASCAR and meet Brandonbilt driver Brandon Brown.
X-ALT-DESC;FMTTYPE=text/html:Join us for the Grand Opening Ribbon Cutting of the BRAND NEW headquarters of Brandonbilt Motorsports right here in Fredericksburg!<br />\n<br />\nSee the #86 NASCAR and meet Brandonbilt driver Brandon Brown.
LOCATION:p.p1 {margin: 0.0px 0.0px 0.0px 0.0px\; font: 12.0px Helvetica} Brandonbilt Motorsports\, World Headquarters 45 RV lane Stafford Va. 22406
UID:e.9458.2704
SEQUENCE:3
DTSTAMP:20260423T045707Z
URL:https://members.fabava.com/events/details/grand-opening-ribbon-cutting-at-the-new-home-of-brandonbilt-motorsports-2704
END:VEVENT

END:VCALENDAR
