BEGIN:VCALENDAR
VERSION:2.0
PRODID:-//ChamberMaster//Event Calendar 2.0//EN
METHOD:PUBLISH
X-PUBLISHED-TTL:P3D
REFRESH-INTERVAL:P3D
CALSCALE:GREGORIAN
BEGIN:VEVENT
DTSTART:20190321T210000Z
DTEND:20190321T230000Z
X-MICROSOFT-CDO-ALLDAYEVENT:FALSE
SUMMARY:Hard Hat Member Reception 3/21/19
DESCRIPTION:FABA is partnering with Embrace Home Loans - Fredericksburg\, VA to help stock the Food Bank pantry. Join us for our monthly Hard Hat Member Reception and bring along a non-perishable/shelf stable food item from the list below for the Fredericksburg Regional Food Bank!\n\n\n\nThursday\, March 21st from 5 - 7 pm at Splitsville\n\n\n\nHard Hat is always free to FABA Members.\n\nFuture members are welcome to come check us out two times before joining the association*.\n\n\n\n*We are confident that you will love FABA and all of our members\, and know you'll be ready to join after your second Hard Hat. If for budget or other reasons\, you are unable to join the association at that time\, and you would still like to attend our Hard Hat events\, a $50 fee will be collected at check-in (check\, cash\, or credit card only). Ask the staff how you can join and be a part of the FABA family.\n\n\n\nFood Bank Most Needed Items:\n\n- Shelf Stable Items\n\n- Canned Meat - Tuna\, Salmon & Chicken\n\n- Dry/Canned Beans\n\n- Canned Fruit in Natural Juice\n\n- Pasta & Sauce\n\n- Mac & Cheese\n\n- Canned Vegetables\n\n- Instant Potatoes\n\n- Shelf Stable Milk\n\n- Rice\n\n\n\nFood-4-Families Most Needed Items\n\n- Canned Meat - Tuna & Chicken\n\n- Canned Beans - Kidney\, Black & Pinto\n\n- Peanut Butter - Low Sugar & Natural\n\n- Jelly - Low Sugar\n\n- Pasta Sauce with Meat or Vegetables (No Glass Please)\n\n- Salsa - Mild\n\n- Whole Grain Cereal & Oatmeal\n\n- Canned Vegetables - Low Sodium\n\n- Canned Fruit - Natural Juices\n\n- Shelf Stable Milk\n\n- Rice - Low Sodium Flavored\n\n- Pasta or Gluten Free Pasta\n\n- Macaroni & Cheese\n\n- Corn Bread Mix\n\n- Instant Mashed Potatoes\n\n- Boxed Meals\n\n- Canned Pasta
X-ALT-DESC;FMTTYPE=text/html:<div class="_63eu _63ev" style="box-sizing: border-box\; font-size: 14px\; max-height: none\; overflow: visible\; padding: 12px\; overflow-wrap: break-word\; font-family: Helvetica\, Arial\, sans-serif\; color: rgb(29\, 33\, 41)\;">\n<div class="_63ew" data-testid="event-permalink-details" style="white-space: pre-wrap\; font-family: inherit\;"><span style="font-family: inherit\;">FABA is partnering with Embrace Home Loans - Fredericksburg\, VA to help stock the Food Bank pantry. Join us for our monthly Hard Hat Member Reception and bring along a non-perishable/shelf stable food item from the list below for the Fredericksburg Regional Food Bank!<br />\n<br />\nThursday\, March 21st from 5 - 7 pm at Splitsville<br />\n<br />\nHard Hat is always free to FABA Members.<br />\nFuture members are welcome to come check us out two times before joining the association*.<br />\n<br />\n*We are confident that you will love FABA and all of our members\, and know you&#39\;ll be ready to join after your second Hard Hat. If for budget or other reasons\, you are unable to join the association at that time\, and you would still like to attend our Hard Hat events\, a $50 fee will be collected at check-in (check\, cash\, or credit card only). Ask the staff how you can join and be a part of the FABA family.<br />\n<br />\nFood Bank Most Needed Items:<br />\n- Shelf Stable Items<br />\n- Canned Meat - Tuna\, Salmon &amp\; Chicken<br />\n- Dry/Canned Beans<br />\n- Canned Fruit in Natural Juice<br />\n- Pasta &amp\; Sauce<br />\n- Mac &amp\; Cheese<br />\n- Canned Vegetables<br />\n- Instant Potatoes<br />\n- Shelf Stable Milk<br />\n- Rice<br />\n<br />\nFood-4-Families Most Needed Items<br />\n- Canned Meat - Tuna &amp\; Chicken<br />\n- Canned Beans - Kidney\, Black &amp\; Pinto<br />\n- Peanut Butter - Low Sugar &amp\; Natural<br />\n- Jelly - Low Sugar<br />\n- Pasta Sauce with Meat or Vegetables (No Glass Please)<br />\n- Salsa - Mild<br />\n- Whole Grain Cereal &amp\; Oatmeal<br />\n- Canned Vegetables - Low Sodium<br />\n- Canned Fruit - Natural Juices<br />\n- Shelf Stable Milk<br />\n- Rice - Low Sodium Flavored<br />\n- Pasta or Gluten Free Pasta<br />\n- Macaroni &amp\; Cheese<br />\n- Corn Bread Mix<br />\n- Instant Mashed Potatoes<br />\n- Boxed Meals<br />\n- Canned Pasta</span></div>\n\n<div>&nbsp\;</div>\n</div>\n
LOCATION:Splitsville 51 Towne Centre Blvd Fredericksburg\, VA 22407
UID:e.9458.2705
SEQUENCE:3
DTSTAMP:20260423T032235Z
URL:https://members.fabava.com/events/details/hard-hat-member-reception-3-21-19-2705
END:VEVENT

END:VCALENDAR
