BEGIN:VCALENDAR
VERSION:2.0
PRODID:-//ChamberMaster//Event Calendar 2.0//EN
METHOD:PUBLISH
X-PUBLISHED-TTL:P3D
REFRESH-INTERVAL:P3D
CALSCALE:GREGORIAN
BEGIN:VEVENT
DTSTART:20190307T220000Z
DTEND:20190308T000000Z
X-MICROSOFT-CDO-ALLDAYEVENT:FALSE
SUMMARY:Hard Hat Member Reception 3/7/19
DESCRIPTION:Join us for our Hard Hat Member Reception.\n\nThursday\, March 7th at Splitsville\n\nHard Hat is always free to FABA Members.\n\nFuture members are welcome to come check us out two times before joining the association*. \n\nWe are confident that you will love FABA and all of our members\, and know you'll be ready to join after your second Hard Hat. If for budget or other reasons\, you are unable to join the association at that time\, and you would still like to attend our Hard Hat events\, a $50 fee will be collected at check-in (check\, cash\, or credit card only).\n\n*Ask the staff how you can join and be a part of the FABA family.
X-ALT-DESC;FMTTYPE=text/html:<span style="color: rgb(29\, 33\, 41)\; font-family: Helvetica\, Arial\, sans-serif\; font-size: 14px\; white-space: pre-wrap\;">Join us for our Hard Hat Member Reception.</span><br style="color: rgb(29\, 33\, 41)\; font-family: Helvetica\, Arial\, sans-serif\; font-size: 14px\; white-space: pre-wrap\;" />\n<span style="color: rgb(29\, 33\, 41)\; font-family: Helvetica\, Arial\, sans-serif\; font-size: 14px\; white-space: pre-wrap\;">Thursday\, March 7th at Splitsville</span><br style="color: rgb(29\, 33\, 41)\; font-family: Helvetica\, Arial\, sans-serif\; font-size: 14px\; white-space: pre-wrap\;" />\n<span style="color: rgb(29\, 33\, 41)\; font-family: Helvetica\, Arial\, sans-serif\; font-size: 14px\; white-space: pre-wrap\;">Hard Hat is always free to FABA Members.</span><br style="color: rgb(29\, 33\, 41)\; font-family: Helvetica\, Arial\, sans-serif\; font-size: 14px\; white-space: pre-wrap\;" />\n<span style="color: rgb(29\, 33\, 41)\; font-family: Helvetica\, Arial\, sans-serif\; font-size: 14px\; white-space: pre-wrap\;">Future members are welcome to come check us out two times before joining the association*. </span><br style="color: rgb(29\, 33\, 41)\; font-family: Helvetica\, Arial\, sans-serif\; font-size: 14px\; white-space: pre-wrap\;" />\n<span style="color: rgb(29\, 33\, 41)\; font-family: Helvetica\, Arial\, sans-serif\; font-size: 14px\; white-space: pre-wrap\;">We are confident that you will love FABA and all of our members\, and know you&#39\;ll be ready to join after your second Hard Hat. If for budget or other reasons\, you are unable to join the association at that time\, and you would still like to attend our Hard Hat events\, a $50 fee will be collected at check-in (check\, cash\, or credit card only).</span><br style="color: rgb(29\, 33\, 41)\; font-family: Helvetica\, Arial\, sans-serif\; font-size: 14px\; white-space: pre-wrap\;" />\n<span style="color: rgb(29\, 33\, 41)\; font-family: Helvetica\, Arial\, sans-serif\; font-size: 14px\; white-space: pre-wrap\;">*Ask the staff how you can join and be a part of the FABA family.</span>
LOCATION:Splitsville 51 Towne Centre Blvd Fredericksburg\, VA 22407
UID:e.9458.2706
SEQUENCE:3
DTSTAMP:20260423T050052Z
URL:https://members.fabava.com/events/details/hard-hat-member-reception-3-7-19-2706
END:VEVENT

END:VCALENDAR
