BEGIN:VCALENDAR
VERSION:2.0
PRODID:-//ChamberMaster//Event Calendar 2.0//EN
METHOD:PUBLISH
X-PUBLISHED-TTL:P3D
REFRESH-INTERVAL:P3D
CALSCALE:GREGORIAN
BEGIN:VEVENT
DTSTART;VALUE=DATE:20190621
DTEND;VALUE=DATE:20190622
TRANSP:TRANSPARENT
X-MICROSOFT-CDO-ALLDAYEVENT:TRUE
SUMMARY:HBAV Conference & Officer Installation (Dan Sandoval)
DESCRIPTION:HBAV Annual Conference and Officer Installtion\n\nFABA Member\, Dan Sandoval\, will be installed at HBAV President
X-ALT-DESC;FMTTYPE=text/html:HBAV Annual Conference and Officer Installtion<br />\nFABA Member\, Dan Sandoval\, will be installed at HBAV President
LOCATION:The Greenbrier Resort
UID:e.9458.2608
SEQUENCE:3
DTSTAMP:20260422T192740Z
URL:https://members.fabava.com/events/details/hbav-conference-officer-installation-dan-sandoval-06-21-2019-2608
END:VEVENT

END:VCALENDAR
