BEGIN:VCALENDAR
VERSION:2.0
PRODID:-//ChamberMaster//Event Calendar 2.0//EN
METHOD:PUBLISH
X-PUBLISHED-TTL:P3D
REFRESH-INTERVAL:P3D
CALSCALE:GREGORIAN
BEGIN:VEVENT
DTSTART:20220426T150000Z
DTEND:20220426T160000Z
X-MICROSOFT-CDO-ALLDAYEVENT:FALSE
SUMMARY:HBAV Insurance- Member Only Webinar
DESCRIPTION:Learn more about member access to HBAV Insurance Agencies exclusive builders risk liability policy.
X-ALT-DESC;FMTTYPE=text/html:Learn more about member access to HBAV Insurance Agencies exclusive builders risk liability policy.
LOCATION:Zoom - Virtual Webinar
UID:e.9458.3634
SEQUENCE:3
DTSTAMP:20260420T010958Z
URL:https://members.fabava.com/events/details/hbav-insurance-member-only-webinar-3634
END:VEVENT

END:VCALENDAR
