BEGIN:VCALENDAR
VERSION:2.0
PRODID:-//ChamberMaster//Event Calendar 2.0//EN
METHOD:PUBLISH
X-PUBLISHED-TTL:P3D
REFRESH-INTERVAL:P3D
CALSCALE:GREGORIAN
BEGIN:VEVENT
DTSTART;VALUE=DATE:20180903
DTEND;VALUE=DATE:20180904
TRANSP:TRANSPARENT
X-MICROSOFT-CDO-ALLDAYEVENT:TRUE
SUMMARY:Labor Day - FABA CLOSED
DESCRIPTION:FABA will be closed in observance of Labor Day.
X-ALT-DESC;FMTTYPE=text/html:FABA will be closed in observance of Labor Day.&nbsp\;
LOCATION:
UID:e.9458.2597
SEQUENCE:3
DTSTAMP:20260423T205413Z
URL:https://members.fabava.com/events/details/labor-day-faba-closed-2597
END:VEVENT

END:VCALENDAR
