BEGIN:VCALENDAR
VERSION:2.0
PRODID:-//ChamberMaster//Event Calendar 2.0//EN
METHOD:PUBLISH
X-PUBLISHED-TTL:P3D
REFRESH-INTERVAL:P3D
CALSCALE:GREGORIAN
BEGIN:VEVENT
DTSTART:20220510T153000Z
DTEND:20220510T170000Z
X-MICROSOFT-CDO-ALLDAYEVENT:FALSE
SUMMARY:2022 - Construction Luncheon - Presented by The FABA Young Professionals
DESCRIPTION:Join the FABA Young Professionals for an educational opportunity and lunch. \n\nTickets are just $10.00 each and lunch is provided. The Learning Lunches will take place every other month on the 2nd Tuesday at the FABA office. \n\nThis month we are learning all about Sales and time management\, topics that apply to just about any job. Thank you to Jorge from Bankers Insurance for teaching this session!
X-ALT-DESC;FMTTYPE=text/html:Join the FABA Young Professionals for an educational opportunity and lunch.&nbsp\;<br />\nTickets are just $10.00 each and lunch is provided. The Learning Lunches will take place every other month on the 2nd Tuesday at the FABA office.&nbsp\;<br />\nThis month we are learning all about Sales and time management\, topics that apply to just about any job. Thank you to Jorge from Bankers Insurance for teaching this session!&nbsp\;<br />\n<br />\n&nbsp\;
LOCATION:The FABA Office 3006 Lafayette Blvd. Fredericksburg\, VA 22408
UID:e.9458.3609
SEQUENCE:3
DTSTAMP:20260419T233449Z
URL:https://members.fabava.com/events/details/learning-lunch-series-presented-by-the-faba-young-professionals-05-10-2022-3609
END:VEVENT

END:VCALENDAR
