BEGIN:VCALENDAR
VERSION:2.0
PRODID:-//ChamberMaster//Event Calendar 2.0//EN
METHOD:PUBLISH
X-PUBLISHED-TTL:P3D
REFRESH-INTERVAL:P3D
CALSCALE:GREGORIAN
BEGIN:VEVENT
DTSTART:20210512T143000Z
DTEND:20210512T153000Z
X-MICROSOFT-CDO-ALLDAYEVENT:FALSE
SUMMARY:Membership Committee Meeting
DESCRIPTION:The Membership Committee is responsible for coordinating membership recruitment and developing programs to help maintain existing membership. The committee members mentor new Fredericksburg Area Builders Association's builders and associates members by welcoming them within the first 30 days of joining the association\, encouraging them to come to upcoming events\, and by staying in contact to help with any questions.\n\n\n\nZoom:  https://us02web.zoom.us/j/85860734579
X-ALT-DESC;FMTTYPE=text/html:The Membership Committee is responsible for coordinating membership recruitment and developing programs to help maintain existing membership. The committee members mentor new Fredericksburg Area Builders Association&#39\;s builders and associates members by welcoming them within the first 30 days of joining the association\, encouraging them to come to upcoming events\, and by staying in contact to help with any questions.<br />\n<br />\nZoom:&nbsp\;<span style="color: rgb(35\, 35\, 51)\; font-family: Lato\, Helvetica\, Arial\; font-size: 14px\;">&nbsp\;</span><a href="https://us02web.zoom.us/j/85860734579" style="box-sizing: border-box\; background-image: initial\; background-position: initial\; background-size: initial\; background-repeat: initial\; background-attachment: initial\; background-origin: initial\; background-clip: initial\; color: rgb(14\, 113\, 235)\; text-decoration-line: none\; font-family: Lato\, Helvetica\, Arial\; font-size: 14px\; overflow-wrap: break-word\;" target="_blank">https://us02web.zoom.us/j/85860734579</a>
LOCATION:Fredericksburg Area Builders Association 3006 Lafayette Boulevard Fredericksburg\, VA 22408 or zoom https://us02web.zoom.us/j/85860734579
UID:e.9458.225
SEQUENCE:3
DTSTAMP:20260421T001457Z
URL:https://members.fabava.com/events/details/membership-committee-meeting-05-12-2021-225
END:VEVENT

END:VCALENDAR
