BEGIN:VCALENDAR
VERSION:2.0
PRODID:-//ChamberMaster//Event Calendar 2.0//EN
METHOD:PUBLISH
X-PUBLISHED-TTL:P3D
REFRESH-INTERVAL:P3D
CALSCALE:GREGORIAN
BEGIN:VEVENT
DTSTART:20190502T140000Z
DTEND:20190502T150000Z
X-MICROSOFT-CDO-ALLDAYEVENT:FALSE
SUMMARY:Model Home Sales Safety Training Class 5/2/19
DESCRIPTION:Model Home Sales Safety Training class\n\nPresented by the Spotsylvania County Sheriff's Department\n\nSave the date to join in a presentation on Model Home Sales Safety Training
X-ALT-DESC;FMTTYPE=text/html:<p class="xmsonormal"><strong><span style="font-size:13.5pt\;font-family:&quot\;Arial&quot\;\,sans-serif\;\ncolor:#ED7D31">Model Home Sales Safety Training class<o:p></o:p></span></strong></p>\n\n<p class="xmsonormal"><strong><i><span style="font-size:13.5pt\;font-family:&quot\;Arial&quot\;\,sans-serif\;\ncolor:#ED7D31\;font-weight:normal">Presented by the Spotsylvania County Sheriff&rsquo\;s Department<o:p></o:p></span></i></strong></p>\n\n<p class="xmsonormal"><strong><span style="font-size:13.5pt\;font-family:&quot\;Arial&quot\;\,sans-serif\;\ncolor:#ED7D31\;font-weight:normal">Save the date to join in a presentation on Model Home Sales Safety Training<o:p></o:p></span></strong></p>\n
LOCATION:Spotsylvania County Sheriff's Office\, 9119 Dean Ridings Lane\, Spotsylvania\, VA 22553
UID:e.9458.2803
SEQUENCE:3
DTSTAMP:20260423T001710Z
URL:https://members.fabava.com/events/details/model-home-sales-safety-training-class-5-2-19-2803
END:VEVENT

END:VCALENDAR
