BEGIN:VCALENDAR
VERSION:2.0
PRODID:-//ChamberMaster//Event Calendar 2.0//EN
METHOD:PUBLISH
X-PUBLISHED-TTL:P3D
REFRESH-INTERVAL:P3D
CALSCALE:GREGORIAN
BEGIN:VEVENT
DTSTART:20190726T110000Z
DTEND:20190726T220000Z
X-MICROSOFT-CDO-ALLDAYEVENT:FALSE
SUMMARY:NAHB EO Conference - Baltimore
DESCRIPTION:
X-ALT-DESC;FMTTYPE=text/html:
LOCATION:
UID:e.9458.2833
SEQUENCE:3
DTSTAMP:20260422T163244Z
URL:https://members.fabava.com/events/details/nahb-eo-conference-baltimore-07-26-2019-2833
END:VEVENT

END:VCALENDAR
