BEGIN:VCALENDAR
VERSION:2.0
PRODID:-//ChamberMaster//Event Calendar 2.0//EN
METHOD:PUBLISH
X-PUBLISHED-TTL:P3D
REFRESH-INTERVAL:P3D
CALSCALE:GREGORIAN
BEGIN:VEVENT
DTSTART:20191121T210000Z
DTEND:20191121T220000Z
X-MICROSOFT-CDO-ALLDAYEVENT:FALSE
SUMMARY:New Member Orientation 11/21/19
DESCRIPTION:New Member Orientation\n\nNew to FABA in 2019?  Want to learn more about who we are and how to get the most out of your membership?  Then join us for this informational meeting where we will go over all the benefits of membership and how to set up your accounts.  Along with learning about how to save money with your membership.
X-ALT-DESC;FMTTYPE=text/html:New Member Orientation<br />\nNew to FABA in 2019?&nbsp\; Want to learn more about who we are and how to get the most out of your membership?&nbsp\; Then join us for this informational meeting where we will go over all the benefits of membership and how to set up your accounts.&nbsp\; Along with learning about how to save money with your membership.&nbsp\;&nbsp\;<br />\n&nbsp\;
LOCATION:Splitsville
UID:e.9458.2961
SEQUENCE:3
DTSTAMP:20260422T092952Z
URL:https://members.fabava.com/events/details/new-member-orientation-11-21-19-2961
END:VEVENT

END:VCALENDAR
