BEGIN:VCALENDAR
VERSION:2.0
PRODID:-//ChamberMaster//Event Calendar 2.0//EN
METHOD:PUBLISH
X-PUBLISHED-TTL:P3D
REFRESH-INTERVAL:P3D
CALSCALE:GREGORIAN
BEGIN:VEVENT
DTSTART:20210402T190000Z
DTEND:20210402T200000Z
X-MICROSOFT-CDO-ALLDAYEVENT:FALSE
SUMMARY:Orange County Quarterly Meeting
DESCRIPTION:Join us and hear more about all things legislative in Orange county - local ordinances\, political happenings\, elections\, etc. - all members are welcome!\n\n\n\nFABA is inviting you to a scheduled Zoom meeting.\n\n\n\nTopic: Orange County Quarterly Meeting\n\nTime: Apr 2\, 2021 03:00 PM Eastern Time (US and Canada)\n\n        Every 3 months on the First Fri\, until Jul 2\, 2021\, 2 occurrence(s)\n\n        Apr 2\, 2021 03:00 PM\n\n        Jul 2\, 2021 03:00 PM\n\nPlease download and import the following iCalendar (.ics) files to your calendar system.\n\nMonthly: https://us02web.zoom.us/meeting/tZ0tceGqqD8sE9fCGZjLcRJGXrFEqiTEA14x/ics?icsToken=98tyKuGhrj0iGNKRthCERpx5Ao_oWerwpildj_pbvzjfCQxQUCnRDvBkF6N2JP3x\n\n\n\nJoin Zoom Meeting\n\nhttps://us02web.zoom.us/j/89068264693?pwd=Qm5iaTNpZWcyS21hdWgwNmJQaTVEUT09\n\n\n\nMeeting ID: 890 6826 4693\n\nPasscode: 261207\n\nOne tap mobile\n\n+16465588656\,\,89068264693#\,\,\,\,*261207# US (New York)\n\n+13017158592\,\,89068264693#\,\,\,\,*261207# US (Washington DC)\n\n\n\nDial by your location\n\n        +1 646 558 8656 US (New York)\n\n        +1 301 715 8592 US (Washington DC)\n\n        +1 312 626 6799 US (Chicago)\n\n        +1 669 900 9128 US (San Jose)\n\n        +1 253 215 8782 US (Tacoma)\n\n        +1 346 248 7799 US (Houston)\n\nMeeting ID: 890 6826 4693\n\nPasscode: 261207\n\nFind your local number: https://us02web.zoom.us/u/kdjzKcUeuT
X-ALT-DESC;FMTTYPE=text/html:<span style="font-family:calibri\,sans-serif\;"><span style="font-size:11.0pt\;">Join us and hear more about all things legislative in Orange county - local ordinances\, political happenings\, elections\, etc. - all members are welcome!</span></span><br />\n<br />\nFABA is inviting you to a scheduled Zoom meeting.<br />\n<br />\nTopic: Orange County Quarterly Meeting<br />\nTime: Apr 2\, 2021 03:00 PM Eastern Time (US and Canada)<br />\n&nbsp\; &nbsp\; &nbsp\; &nbsp\; Every 3 months on the First Fri\, until Jul 2\, 2021\, 2 occurrence(s)<br />\n&nbsp\; &nbsp\; &nbsp\; &nbsp\; Apr 2\, 2021 03:00 PM<br />\n&nbsp\; &nbsp\; &nbsp\; &nbsp\; Jul 2\, 2021 03:00 PM<br />\nPlease download and import the following iCalendar (.ics) files to your calendar system.<br />\nMonthly: https://us02web.zoom.us/meeting/tZ0tceGqqD8sE9fCGZjLcRJGXrFEqiTEA14x/ics?icsToken=98tyKuGhrj0iGNKRthCERpx5Ao_oWerwpildj_pbvzjfCQxQUCnRDvBkF6N2JP3x<br />\n<br />\nJoin Zoom Meeting<br />\nhttps://us02web.zoom.us/j/89068264693?pwd=Qm5iaTNpZWcyS21hdWgwNmJQaTVEUT09<br />\n<br />\nMeeting ID: 890 6826 4693<br />\nPasscode: 261207<br />\nOne tap mobile<br />\n+16465588656\,\,89068264693#\,\,\,\,*261207# US (New York)<br />\n+13017158592\,\,89068264693#\,\,\,\,*261207# US (Washington DC)<br />\n<br />\nDial by your location<br />\n&nbsp\; &nbsp\; &nbsp\; &nbsp\; +1 646 558 8656 US (New York)<br />\n&nbsp\; &nbsp\; &nbsp\; &nbsp\; +1 301 715 8592 US (Washington DC)<br />\n&nbsp\; &nbsp\; &nbsp\; &nbsp\; +1 312 626 6799 US (Chicago)<br />\n&nbsp\; &nbsp\; &nbsp\; &nbsp\; +1 669 900 9128 US (San Jose)<br />\n&nbsp\; &nbsp\; &nbsp\; &nbsp\; +1 253 215 8782 US (Tacoma)<br />\n&nbsp\; &nbsp\; &nbsp\; &nbsp\; +1 346 248 7799 US (Houston)<br />\nMeeting ID: 890 6826 4693<br />\nPasscode: 261207<br />\nFind your local number: https://us02web.zoom.us/u/kdjzKcUeuT<br />\n<br />\n&nbsp\;
LOCATION:Zoom https://us02web.zoom.us/j/89068264693?pwd=Qm5iaTNpZWcyS21hdWgwNmJQaTVEUT09
UID:e.9458.3237
SEQUENCE:3
DTSTAMP:20260421T020102Z
URL:https://members.fabava.com/events/details/orange-county-quarterly-meeting-04-02-2021-3237
END:VEVENT

END:VCALENDAR
