BEGIN:VCALENDAR
VERSION:2.0
PRODID:-//ChamberMaster//Event Calendar 2.0//EN
METHOD:PUBLISH
X-PUBLISHED-TTL:P3D
REFRESH-INTERVAL:P3D
CALSCALE:GREGORIAN
BEGIN:VEVENT
DTSTART:20190228T150000Z
DTEND:20190228T210000Z
X-MICROSOFT-CDO-ALLDAYEVENT:FALSE
SUMMARY:OSHA-10 Safety Training Class 2/28-3/1/19
DESCRIPTION:OSHA 10-HR Construction Industry Safety Course\n\npresented by David Barker of Builders Mutual Insurance Company\n\n \n\n\n\nDo you or your employees have the tools you need to work safely? The OSHA 10-hr course is designed to assist employees with recognition and avoidance of safety and health hazards on the job site. This is an entry level look at the OSHA standards as they apply to construction job sites. Who should attend? Company owners\, field employees and anyone who has a safety responsibility on the job site would benefit from this class. Learn from actual claims that have occurred   one misstep or unsafe behavior can affect you and your company. We will employ hands on discussions of real life situations that you may have experienced and the solutions to correct them. All participants must be able to pass the final test to earn a course completion card. By attending this class\, you'll be able to:\n\n\n\n \n\n\n\n  Recognize and avoid jobsite hazards and protect others from harm\n\n\n\n  Learn about what rights and responsibilities you have as an employee in regards to safety on the jobsite\n\n\n\n  Anticipate what to expect from an OSHA inspection\, including rights the employer has\n\n\n\n  Comply with OSHA standards for fall protection\,\n\n\n\nelectrical\, PPE\, and more\n\n\n\n  Save money by avoiding fines and costly insurance claims\n\n\n\n  Feel safer working on the jobsite\n\n\n\n  Earn a course completion card from Federal OSHA\n\n\n\n \n\n\n\n**must attend both part 1 and 2 to receive credit for the course**\n\nLunch will be provided
X-ALT-DESC;FMTTYPE=text/html:<div data-block="true" data-editor="al4b6" data-offset-key="e6q9v-0-0" style="font-family: Helvetica\, Arial\, sans-serif\; color: rgb(29\, 33\, 41)\; font-size: 12px\; white-space: pre-wrap\;">\n<div class="_1mf _1mj" data-offset-key="e6q9v-0-0" style="position: relative\; direction: ltr\; font-family: inherit\;"><span data-offset-key="e6q9v-0-0" style="font-family: inherit\;">OSHA 10-HR Construction Industry Safety Course</span><br />\npresented by David Barker of Builders Mutual Insurance Company<br />\n&nbsp\;</div>\n</div>\n\n<div data-block="true" data-editor="al4b6" data-offset-key="89ele-0-0" style="font-family: Helvetica\, Arial\, sans-serif\; color: rgb(29\, 33\, 41)\; font-size: 12px\; white-space: pre-wrap\;">\n<div class="_1mf _1mj" data-offset-key="89ele-0-0" style="position: relative\; direction: ltr\; font-family: inherit\;"><span data-offset-key="89ele-0-0" style="font-family: inherit\;">Do you or your employees have the tools you need to work safely? The OSHA 10-hr course is designed to assist employees with recognition and avoidance of safety and health hazards on the job site. This is an entry level look at the OSHA standards as they apply to construction job sites. Who should attend? Company owners\, field employees and anyone who has a safety responsibility on the job site would benefit from this class. Learn from actual claims that have occurred &ndash\; one misstep or unsafe behavior can affect you and your company. We will employ hands on discussions of real life situations that you may have experienced and the solutions to correct them. All participants must be able to pass the final test to earn a course completion card. By attending this class\, you&rsquo\;ll be able to:</span></div>\n</div>\n\n<div data-block="true" data-editor="al4b6" data-offset-key="d91pt-0-0" style="font-family: Helvetica\, Arial\, sans-serif\; color: rgb(29\, 33\, 41)\; font-size: 12px\; white-space: pre-wrap\;">\n<div class="_1mf _1mj" data-offset-key="d91pt-0-0" style="position: relative\; direction: ltr\; font-family: inherit\;">&nbsp\;</div>\n</div>\n\n<div data-block="true" data-editor="al4b6" data-offset-key="4gdl1-0-0" style="font-family: Helvetica\, Arial\, sans-serif\; color: rgb(29\, 33\, 41)\; font-size: 12px\; white-space: pre-wrap\;">\n<div class="_1mf _1mj" data-offset-key="4gdl1-0-0" style="position: relative\; direction: ltr\; font-family: inherit\;"><span data-offset-key="4gdl1-0-0" style="font-family: inherit\;">&bull\; Recognize and avoid jobsite hazards and protect others from harm</span></div>\n</div>\n\n<div data-block="true" data-editor="al4b6" data-offset-key="dm525-0-0" style="font-family: Helvetica\, Arial\, sans-serif\; color: rgb(29\, 33\, 41)\; font-size: 12px\; white-space: pre-wrap\;">\n<div class="_1mf _1mj" data-offset-key="dm525-0-0" style="position: relative\; direction: ltr\; font-family: inherit\;"><span data-offset-key="dm525-0-0" style="font-family: inherit\;">&bull\; Learn about what rights and responsibilities you have as an employee in regards to safety on the jobsite</span></div>\n</div>\n\n<div data-block="true" data-editor="al4b6" data-offset-key="68g8r-0-0" style="font-family: Helvetica\, Arial\, sans-serif\; color: rgb(29\, 33\, 41)\; font-size: 12px\; white-space: pre-wrap\;">\n<div class="_1mf _1mj" data-offset-key="68g8r-0-0" style="position: relative\; direction: ltr\; font-family: inherit\;"><span data-offset-key="68g8r-0-0" style="font-family: inherit\;">&bull\; Anticipate what to expect from an OSHA inspection\, including rights the employer has</span></div>\n</div>\n\n<div data-block="true" data-editor="al4b6" data-offset-key="f9h14-0-0" style="font-family: Helvetica\, Arial\, sans-serif\; color: rgb(29\, 33\, 41)\; font-size: 12px\; white-space: pre-wrap\;">\n<div class="_1mf _1mj" data-offset-key="f9h14-0-0" style="position: relative\; direction: ltr\; font-family: inherit\;"><span data-offset-key="f9h14-0-0" style="font-family: inherit\;">&bull\; Comply with OSHA standards for fall protection\,</span></div>\n</div>\n\n<div data-block="true" data-editor="al4b6" data-offset-key="c3u0e-0-0" style="font-family: Helvetica\, Arial\, sans-serif\; color: rgb(29\, 33\, 41)\; font-size: 12px\; white-space: pre-wrap\;">\n<div class="_1mf _1mj" data-offset-key="c3u0e-0-0" style="position: relative\; direction: ltr\; font-family: inherit\;"><span data-offset-key="c3u0e-0-0" style="font-family: inherit\;">electrical\, PPE\, and more</span></div>\n</div>\n\n<div data-block="true" data-editor="al4b6" data-offset-key="ejl83-0-0" style="font-family: Helvetica\, Arial\, sans-serif\; color: rgb(29\, 33\, 41)\; font-size: 12px\; white-space: pre-wrap\;">\n<div class="_1mf _1mj" data-offset-key="ejl83-0-0" style="position: relative\; direction: ltr\; font-family: inherit\;"><span data-offset-key="ejl83-0-0" style="font-family: inherit\;">&bull\; Save money by avoiding fines and costly insurance claims</span></div>\n</div>\n\n<div data-block="true" data-editor="al4b6" data-offset-key="2r1f8-0-0" style="font-family: Helvetica\, Arial\, sans-serif\; color: rgb(29\, 33\, 41)\; font-size: 12px\; white-space: pre-wrap\;">\n<div class="_1mf _1mj" data-offset-key="2r1f8-0-0" style="position: relative\; direction: ltr\; font-family: inherit\;"><span data-offset-key="2r1f8-0-0" style="font-family: inherit\;">&bull\; Feel safer working on the jobsite</span></div>\n</div>\n\n<div data-block="true" data-editor="al4b6" data-offset-key="e00ph-0-0" style="font-family: Helvetica\, Arial\, sans-serif\; color: rgb(29\, 33\, 41)\; font-size: 12px\; white-space: pre-wrap\;">\n<div class="_1mf _1mj" data-offset-key="e00ph-0-0" style="position: relative\; direction: ltr\; font-family: inherit\;"><span data-offset-key="e00ph-0-0" style="font-family: inherit\;">&bull\; Earn a course completion card from Federal OSHA</span></div>\n</div>\n\n<div data-block="true" data-editor="al4b6" data-offset-key="dsdiv-0-0" style="font-family: Helvetica\, Arial\, sans-serif\; color: rgb(29\, 33\, 41)\; font-size: 12px\; white-space: pre-wrap\;">\n<div class="_1mf _1mj" data-offset-key="dsdiv-0-0" style="position: relative\; direction: ltr\; font-family: inherit\;">&nbsp\;</div>\n</div>\n\n<div data-block="true" data-editor="al4b6" data-offset-key="3a8tm-0-0" style="font-family: Helvetica\, Arial\, sans-serif\; color: rgb(29\, 33\, 41)\; font-size: 12px\; white-space: pre-wrap\;">\n<div class="_1mf _1mj" data-offset-key="3a8tm-0-0" style="position: relative\; direction: ltr\; font-family: inherit\;"><span data-offset-key="3a8tm-0-0" style="font-family: inherit\;">**must attend both part 1 and 2 to receive credit for the course**</span><br />\n<span style="color: rgb(29\, 33\, 41)\; font-family: Helvetica\, Arial\, sans-serif\; font-size: 12px\; white-space: pre-wrap\;">Lunch will be provided</span><br style="color: rgb(29\, 33\, 41)\; font-family: Helvetica\, Arial\, sans-serif\; font-size: 12px\; white-space: pre-wrap\;" />\n&nbsp\;</div>\n</div>\n
LOCATION:Fredericksburg Center for Advanced Technology Germanna Community College\, Central Park Location 1325 Central Park Blvd. Fredericksburg\, VA 22401
UID:e.9458.2699
SEQUENCE:3
DTSTAMP:20260423T045202Z
URL:https://members.fabava.com/events/details/osha-10-safety-training-class-2-28-3-1-19-2699
END:VEVENT

END:VCALENDAR
