BEGIN:VCALENDAR
VERSION:2.0
PRODID:-//ChamberMaster//Event Calendar 2.0//EN
METHOD:PUBLISH
X-PUBLISHED-TTL:P3D
REFRESH-INTERVAL:P3D
CALSCALE:GREGORIAN
BEGIN:VEVENT
DTSTART:20170419T130000Z
DTEND:20170419T140000Z
X-MICROSOFT-CDO-ALLDAYEVENT:FALSE
SUMMARY:Parade of Homes Meeting
DESCRIPTION:Parade of Homes Committee meeting.
X-ALT-DESC;FMTTYPE=text/html:Parade of Homes Committee meeting.
LOCATION:FABA Conference Room 9 am - 10 am
UID:e.9458.554
SEQUENCE:3
DTSTAMP:20260425T005953Z
URL:https://members.fabava.com/events/details/parade-of-homes-meeting-04-19-2017-554
END:VEVENT

END:VCALENDAR
