BEGIN:VCALENDAR
VERSION:2.0
PRODID:-//ChamberMaster//Event Calendar 2.0//EN
METHOD:PUBLISH
X-PUBLISHED-TTL:P3D
REFRESH-INTERVAL:P3D
CALSCALE:GREGORIAN
BEGIN:VEVENT
DTSTART:20190401T190000Z
DTEND:20190401T200000Z
X-MICROSOFT-CDO-ALLDAYEVENT:FALSE
SUMMARY:Spotsylvania County Bi-Monthly Meeting
DESCRIPTION:Take this opportunity to meet with planning and building officials to ask questions and get updates about issues that could impact the building industry
X-ALT-DESC;FMTTYPE=text/html:Take this opportunity to meet with planning and building officials to ask questions and get updates about issues that could impact the building industry
LOCATION:Spotsylvania Building Department 9019 Old Battlefield Blvd.\, Spotsylvania\, VA 22553 Third floor in the Economic Development conference room
UID:e.9458.2728
SEQUENCE:3
DTSTAMP:20260423T002907Z
URL:https://members.fabava.com/events/details/spotsylvania-county-bi-monthly-meeting-2728
END:VEVENT

END:VCALENDAR
