BEGIN:VCALENDAR
VERSION:2.0
PRODID:-//ChamberMaster//Event Calendar 2.0//EN
METHOD:PUBLISH
X-PUBLISHED-TTL:P3D
REFRESH-INTERVAL:P3D
CALSCALE:GREGORIAN
BEGIN:VEVENT
DTSTART:20210412T130000Z
DTEND:20210412T140000Z
X-MICROSOFT-CDO-ALLDAYEVENT:FALSE
SUMMARY:Stafford County Bi-monthly Meeting
DESCRIPTION:Take this opportunity to meet with planning and building officials to ask questions and get updates about issues that could impact the building industry\n\n\n\nTopic: Stafford County Bi-Monthly Meeting (Zoom)\n\nTime: Apr 12\, 2021 09:00 AM Eastern Time (US and Canada)\n\n\n\nJoin Zoom Meeting\n\nhttps://us02web.zoom.us/j/82819771601?pwd=KzlWTnozaEZZam1aSmh6WUpzQVBOZz09\n\n\n\nMeeting ID: 828 1977 1601\n\nPasscode: 392973\n\nOne tap mobile\n\n+13126266799\,\,82819771601#\,\,\,\,*392973# US (Chicago)\n\n+16465588656\,\,82819771601#\,\,\,\,*392973# US (New York)\n\n\n\nDial by your location\n\n        +1 312 626 6799 US (Chicago)\n\n        +1 646 558 8656 US (New York)\n\n        +1 301 715 8592 US (Washington DC)\n\n        +1 346 248 7799 US (Houston)\n\n        +1 669 900 9128 US (San Jose)\n\n        +1 253 215 8782 US (Tacoma)\n\nMeeting ID: 828 1977 1601\n\nPasscode: 392973\n\nFind your local number: https://us02web.zoom.us/u/kedOr6bCVD
X-ALT-DESC;FMTTYPE=text/html:Take this opportunity to meet with planning and building officials to ask questions and get updates about issues that could impact the building industry<br />\n<br />\nTopic: Stafford County Bi-Monthly Meeting (Zoom)<br />\nTime: Apr 12\, 2021 09:00 AM Eastern Time (US and Canada)<br />\n<br />\nJoin Zoom Meeting<br />\nhttps://us02web.zoom.us/j/82819771601?pwd=KzlWTnozaEZZam1aSmh6WUpzQVBOZz09<br />\n<br />\nMeeting ID: 828 1977 1601<br />\nPasscode: 392973<br />\nOne tap mobile<br />\n+13126266799\,\,82819771601#\,\,\,\,*392973# US (Chicago)<br />\n+16465588656\,\,82819771601#\,\,\,\,*392973# US (New York)<br />\n<br />\nDial by your location<br />\n&nbsp\; &nbsp\; &nbsp\; &nbsp\; +1 312 626 6799 US (Chicago)<br />\n&nbsp\; &nbsp\; &nbsp\; &nbsp\; +1 646 558 8656 US (New York)<br />\n&nbsp\; &nbsp\; &nbsp\; &nbsp\; +1 301 715 8592 US (Washington DC)<br />\n&nbsp\; &nbsp\; &nbsp\; &nbsp\; +1 346 248 7799 US (Houston)<br />\n&nbsp\; &nbsp\; &nbsp\; &nbsp\; +1 669 900 9128 US (San Jose)<br />\n&nbsp\; &nbsp\; &nbsp\; &nbsp\; +1 253 215 8782 US (Tacoma)<br />\nMeeting ID: 828 1977 1601<br />\nPasscode: 392973<br />\nFind your local number: https://us02web.zoom.us/u/kedOr6bCVD
LOCATION:Zoom Meeting https://us02web.zoom.us/j/82819771601?pwd=KzlWTnozaEZZam1aSmh6WUpzQVBOZz09 Meeting ID: 828 1977 1601 Passcode: 392973 One tap mobile +13126266799\,\,82819771601#\,\,\,\,*392973# US (Chicago) +16465588656\,\,82819771601#\,\,\,\,*392973# US (New York) Dial by your location +1 312 626 6799 US (Chicago) +1 646 558 8656 US (New York) +1 301 715 8592 US (Washington DC) +1 346 248 7799 US (Houston) +1 669 900 9128 US (San Jose) +1 253 215 8782 US (Tacoma) Meeting ID: 828 1977 1601 Passcode: 392973 Find your local number: https://us02web.zoom.us/u/kedOr6bCVD
UID:e.9458.3230
SEQUENCE:3
DTSTAMP:20260421T021359Z
URL:https://members.fabava.com/events/details/stafford-county-bi-monthly-meeting-04-12-2021-3230
END:VEVENT

END:VCALENDAR
