BEGIN:VCALENDAR
VERSION:2.0
PRODID:-//ChamberMaster//Event Calendar 2.0//EN
METHOD:PUBLISH
X-PUBLISHED-TTL:P3D
REFRESH-INTERVAL:P3D
CALSCALE:GREGORIAN
BEGIN:VEVENT
DTSTART:20200527T133000Z
DTEND:20200527T143000Z
X-MICROSOFT-CDO-ALLDAYEVENT:FALSE
SUMMARY:Webinar: State of the Northern Virginia Market in the Time of COVID-19 (Zoom Webinar presented by NVBIA and MetroStudy)
DESCRIPTION:Join Ben Sage\, Director\, Mid-Atlantic Region of Metrostudy for an informative webinar on the northern Virginia market in the time of COVID-19. Ben will discuss items such as employment\, wages\, mortgages and what the government has been doing at a national level\, and then provide specifics on sales activity in the northern Virginia market.\n\nRegister now and prepare your questions! This will be just the opportunity you need to understand what is going on in the market right now.\n\nBe sure to register in advance for this webinar.\n\n \n\nRegister for Webinar Here
X-ALT-DESC;FMTTYPE=text/html:<p style="box-sizing: border-box\; margin: 0px\; padding: 0px 0px 1em\; border: 0px\; outline: 0px\; font-size: 15px\; text-size-adjust: 100%\; vertical-align: baseline\; background-image: initial\; background-position: initial\; background-size: initial\; background-repeat: initial\; background-attachment: initial\; background-origin: initial\; background-clip: initial\; color: rgb(102\, 102\, 102)\; font-family: &quot\;Open Sans&quot\;\, Helvetica\, Arial\, Lucida\, sans-serif\;">Join Ben Sage\, Director\, Mid-Atlantic Region of Metrostudy for an informative webinar on the northern Virginia market in the time of COVID-19. Ben will discuss items such as employment\, wages\, mortgages and what the government has been doing at a national level\, and then provide specifics on sales activity in the northern Virginia market.</p>\n\n<p style="box-sizing: border-box\; margin: 0px\; padding: 0px 0px 1em\; border: 0px\; outline: 0px\; font-size: 15px\; text-size-adjust: 100%\; vertical-align: baseline\; background-image: initial\; background-position: initial\; background-size: initial\; background-repeat: initial\; background-attachment: initial\; background-origin: initial\; background-clip: initial\; color: rgb(102\, 102\, 102)\; font-family: &quot\;Open Sans&quot\;\, Helvetica\, Arial\, Lucida\, sans-serif\;">Register now and prepare your questions! This will be just the opportunity you need to understand what is going on in the market right now.</p>\n\n<p style="box-sizing: border-box\; margin: 0px\; padding: 0px 0px 1em\; border: 0px\; outline: 0px\; font-size: 15px\; text-size-adjust: 100%\; vertical-align: baseline\; background-image: initial\; background-position: initial\; background-size: initial\; background-repeat: initial\; background-attachment: initial\; background-origin: initial\; background-clip: initial\; color: rgb(102\, 102\, 102)\; font-family: &quot\;Open Sans&quot\;\, Helvetica\, Arial\, Lucida\, sans-serif\;">Be sure to register in advance for this webinar.</p>\n\n<p style="box-sizing: border-box\; margin: 0px\; padding: 0px\; border: 0px\; outline: 0px\; font-size: 15px\; text-size-adjust: 100%\; vertical-align: baseline\; background-image: initial\; background-position: initial\; background-size: initial\; background-repeat: initial\; background-attachment: initial\; background-origin: initial\; background-clip: initial\; color: rgb(102\, 102\, 102)\; font-family: &quot\;Open Sans&quot\;\, Helvetica\, Arial\, Lucida\, sans-serif\;">&nbsp\;</p>\n\n<div class="wp-block-button" style="box-sizing: border-box\; margin: 0px\; padding: 0px\; border: 0px\; outline: 0px\; font-size: 15px\; text-size-adjust: 100%\; vertical-align: baseline\; background-image: initial\; background-position: initial\; background-size: initial\; background-repeat: initial\; background-attachment: initial\; background-origin: initial\; background-clip: initial\; color: rgb(255\, 255\, 255)\; font-family: &quot\;Open Sans&quot\;\, Helvetica\, Arial\, Lucida\, sans-serif\;"><a class="wp-block-button__link" href="http://r20.rs6.net/tn.jsp?f=0017BQhw-r_NcBv59tvLNZVIyhsT2LDbObUiBALixxBCzOH-tIZ55dFZH6I3mKb1FGJ2d157AIyWBWvRBKw8JFhptxKUz8kfekFSdCxtuiRLR-ioYpLGTbP49ToExRZ8Am9bRaqGbld_N2r3u75MGEzWgfWGySq0Dc52IvyE05LHiKOr12O22Ieuuhv4EMNTqHMCCKjA-pZLZQ=&amp\;c=HZwrESjMBKviZRxNrjukiWeLvYRx3cuZY6AEuHEsZxTxxQfwbrG7Ow==&amp\;ch=PYzMPf_ei1FLYj6ip0r21-DN73dkVszezBMbs-y53uavZBWSwJlMvg==" style="box-sizing: border-box\; margin: 0px\; padding: 12px 24px\; border: none\; outline: 0px\; font-size: 18px\; text-size-adjust: 100%\; vertical-align: baseline\; background: rgb(50\, 55\, 60)\; color: inherit\; text-decoration-line: none\; border-radius: 28px\; box-shadow: none\; cursor: pointer\; display: inline-block\; text-align: center\; overflow-wrap: break-word\;">Register for Webinar Here</a></div>\n
LOCATION:
UID:e.9458.3102
SEQUENCE:3
DTSTAMP:20260421T212533Z
URL:https://members.fabava.com/events/details/webinar-state-of-the-northern-virginia-market-in-the-time-of-covid-19-zoom-webinar-presented-by-nvbia-and-metrostudy-3102
END:VEVENT

END:VCALENDAR
